BEGIN:VCALENDAR
VERSION:2.0
PRODID:-//Welcome! Bienvenue! Aanii! - ECPv5.9.0//NONSGML v1.0//EN
CALSCALE:GREGORIAN
METHOD:PUBLISH
X-WR-CALNAME:Welcome! Bienvenue! Aanii!
X-ORIGINAL-URL:https://sudburyartscouncil.ca
X-WR-CALDESC:Events for Welcome! Bienvenue! Aanii!
BEGIN:VTIMEZONE
TZID:UTC
BEGIN:STANDARD
TZOFFSETFROM:+0000
TZOFFSETTO:+0000
TZNAME:UTC
DTSTART:20170101T000000
END:STANDARD
END:VTIMEZONE
BEGIN:VEVENT
DTSTART;VALUE=DATE:20170113
DTEND;VALUE=DATE:20180202
DTSTAMP:20260423T124333
CREATED:20170113T171228Z
LAST-MODIFIED:20170113T171228Z
UID:1543-1484265600-1517529599@sudburyartscouncil.ca
SUMMARY:fine arts lessons
DESCRIPTION:SURE YOU CAN \n  \nDrawing and Painting lessons in Fine Arts for all levels ( 7 to 92 + ) \nPencils\, soft & oil pastels\, watercolour\, acrylic\, oils\, …..( check students’ works inserts ) \nTHURSDAYS 12 :- 3:pm. or 6:30 – 9:30 pm. \n  \nNEW SUDBURY \n  \nFOR MORE INFORMATION CALL  Lozia 705-470-6155 \n  \n  \n  \nSURE YOU CAN \n  \nDrawing and Painting lessons in Fine Arts for all levels (7 to 92 + ) \nPencils\, soft and oil pastels\, watercolour\, acrylics\, oils ……( check students’ works inserts ) \nWEDNESDAYS 12:-3: pm. or 6: – 9: pm. \n                                                                                                                                                                 \n PARKSIDE CENTRE 140 DURHAM\, (YMCA BUILDING ) \n  \nNEXT 10 WEEK SESSION\, FEBRUARY 01\, 2017\, / PLEASE REGISTER BY JANUARY 25\, 2017 \n  \nFOR MORE INFORMATION CALL  Lozia   705-470-6155 \n  \n  \n  \nTHANK YOU \n\n\n	Related
URL:https://sudburyartscouncil.ca/events/fine-arts-lessons/
END:VEVENT
END:VCALENDAR