BEGIN:VCALENDAR
VERSION:2.0
PRODID:-//Welcome! Bienvenue! Aanii! - ECPv5.9.0//NONSGML v1.0//EN
CALSCALE:GREGORIAN
METHOD:PUBLISH
X-WR-CALNAME:Welcome! Bienvenue! Aanii!
X-ORIGINAL-URL:https://sudburyartscouncil.ca
X-WR-CALDESC:Events for Welcome! Bienvenue! Aanii!
BEGIN:VTIMEZONE
TZID:UTC
BEGIN:STANDARD
TZOFFSETFROM:+0000
TZOFFSETTO:+0000
TZNAME:UTC
DTSTART:20170101T000000
END:STANDARD
END:VTIMEZONE
BEGIN:VEVENT
DTSTART;TZID=UTC:20170113T120000
DTEND;TZID=UTC:20170113T140000
DTSTAMP:20260423T111906
CREATED:20161228T104709Z
LAST-MODIFIED:20161228T104709Z
UID:1519-1484308800-1484316000@sudburyartscouncil.ca
SUMMARY:Book Launch - Pathways to Mino Biimadiziwin in the City: A Profile of Urban Aboriginal Economic Success in Sudbury
DESCRIPTION:Related
URL:https://sudburyartscouncil.ca/events/book-launch-pathways-to-mino-biimadiziwin-in-the-city-a-profile-of-urban-aboriginal-economic-success-in-sudbury/
LOCATION:Fromagerie\, 5 Cedar Street\, Sudbury\, ON\, Canada
END:VEVENT
END:VCALENDAR